BEGIN:VCALENDAR
VERSION:2.0
PRODID:-//Winien &amp; Ma - ECPv6.15.12.2//NONSGML v1.0//EN
CALSCALE:GREGORIAN
METHOD:PUBLISH
X-WR-CALNAME:Winien &amp; Ma
X-ORIGINAL-URL:https://winienma.com
X-WR-CALDESC:Wydarzenia dla Winien &amp; Ma
REFRESH-INTERVAL;VALUE=DURATION:PT1H
X-Robots-Tag:noindex
X-PUBLISHED-TTL:PT1H
BEGIN:VTIMEZONE
TZID:UTC
BEGIN:STANDARD
TZOFFSETFROM:+0000
TZOFFSETTO:+0000
TZNAME:UTC
DTSTART:20240101T000000
END:STANDARD
END:VTIMEZONE
BEGIN:VEVENT
DTSTART;VALUE=DATE:20260115
DTEND;VALUE=DATE:20260116
DTSTAMP:20260419T135410
CREATED:20251219T132407Z
LAST-MODIFIED:20251219T132407Z
UID:10000004-1768435200-1768521599@winienma.com
SUMMARY:Spółki - zapłata ZUS
DESCRIPTION:Zapłata składek ZUS w spółkach
URL:https://winienma.com/wydarzenie/spolki-zaplata-zus/
END:VEVENT
BEGIN:VEVENT
DTSTART;VALUE=DATE:20260110
DTEND;VALUE=DATE:20260111
DTSTAMP:20260419T135410
CREATED:20251219T131559Z
LAST-MODIFIED:20251219T131559Z
UID:10000003-1768003200-1768089599@winienma.com
SUMMARY:Termin wypłaty wynagrodzeń dla pracowników
DESCRIPTION:Termin wypłaty wynagrodzeń dla pracowników
URL:https://winienma.com/wydarzenie/termin-wyplaty-wynagrodzen-dla-pracownikow/
END:VEVENT
BEGIN:VEVENT
DTSTART;VALUE=DATE:20260101
DTEND;VALUE=DATE:20260102
DTSTAMP:20260419T135410
CREATED:20251219T131306Z
LAST-MODIFIED:20251219T131306Z
UID:10000002-1767225600-1767311999@winienma.com
SUMMARY:Remanent początkowy
DESCRIPTION:
URL:https://winienma.com/wydarzenie/remanent-poczatkowy/
END:VEVENT
BEGIN:VEVENT
DTSTART;VALUE=DATE:20251215
DTEND;VALUE=DATE:20251216
DTSTAMP:20260419T135410
CREATED:20251215T135315Z
LAST-MODIFIED:20251215T135315Z
UID:10000001-1765756800-1765843199@winienma.com
SUMMARY:Test opis
DESCRIPTION:Test tytul
URL:https://winienma.com/wydarzenie/test-opis/
END:VEVENT
END:VCALENDAR